<?xml version="1.0" encoding="UTF-8" standalone="no"?>
<metadata xml:lang="de">
  <Esri>
    <CreaDate>20201215</CreaDate>
    <CreaTime>15463300</CreaTime>
    <ArcGISFormat>1.0</ArcGISFormat>
    <SyncOnce>FALSE</SyncOnce>
    <DataProperties>
      <itemProps>
        <itemName Sync="TRUE">DTM2020_Hoehe_25cm.tif</itemName>
        <itemLocation>
          <linkage Sync="TRUE">file://C:\ArcGIS\Projects\BFS_Testdaten\Data_FBr\DTM_Reliefkarte\DTM2020_Hoehe_25cm.tif</linkage>
          <protocol Sync="TRUE">Local Area Network</protocol>
        </itemLocation>
        <imsContentType Sync="TRUE">002</imsContentType>
        <nativeExtBox>
          <westBL Sync="TRUE">2588000.000122</westBL>
          <eastBL Sync="TRUE">2605000.000122</eastBL>
          <southBL Sync="TRUE">1196000.000122</southBL>
          <northBL Sync="TRUE">1205000.000122</northBL>
          <exTypeCode Sync="TRUE">1</exTypeCode>
        </nativeExtBox>
      </itemProps>
      <coordRef>
        <type Sync="TRUE">Projected</type>
        <geogcsn Sync="TRUE">GCS_CH1903+</geogcsn>
        <csUnits Sync="TRUE">Linear Unit: Meter (1.000000)</csUnits>
        <projcsn Sync="TRUE">CH1903+_LV95</projcsn>
        <peXml Sync="TRUE">&lt;ProjectedCoordinateSystem xsi:type='typens:ProjectedCoordinateSystem' xmlns:xsi='http://www.w3.org/2001/XMLSchema-instance' xmlns:xs='http://www.w3.org/2001/XMLSchema' xmlns:typens='http://www.esri.com/schemas/ArcGIS/2.5.0'&gt;&lt;WKT&gt;PROJCS[&amp;quot;CH1903+_LV95&amp;quot;,GEOGCS[&amp;quot;GCS_CH1903+&amp;quot;,DATUM[&amp;quot;D_CH1903+&amp;quot;,SPHEROID[&amp;quot;Bessel_1841&amp;quot;,6377397.155,299.1528128]],PRIMEM[&amp;quot;Greenwich&amp;quot;,0.0],UNIT[&amp;quot;Degree&amp;quot;,0.0174532925199433]],PROJECTION[&amp;quot;Hotine_Oblique_Mercator_Azimuth_Center&amp;quot;],PARAMETER[&amp;quot;False_Easting&amp;quot;,2600000.0],PARAMETER[&amp;quot;False_Northing&amp;quot;,1200000.0],PARAMETER[&amp;quot;Scale_Factor&amp;quot;,1.0],PARAMETER[&amp;quot;Azimuth&amp;quot;,90.0],PARAMETER[&amp;quot;Longitude_Of_Center&amp;quot;,7.439583333333333],PARAMETER[&amp;quot;Latitude_Of_Center&amp;quot;,46.95240555555556],UNIT[&amp;quot;Meter&amp;quot;,1.0],AUTHORITY[&amp;quot;EPSG&amp;quot;,2056]]&lt;/WKT&gt;&lt;XOrigin&gt;-27386400&lt;/XOrigin&gt;&lt;YOrigin&gt;-32067900&lt;/YOrigin&gt;&lt;XYScale&gt;140996569.55187955&lt;/XYScale&gt;&lt;ZOrigin&gt;-100000&lt;/ZOrigin&gt;&lt;ZScale&gt;10000&lt;/ZScale&gt;&lt;MOrigin&gt;-100000&lt;/MOrigin&gt;&lt;MScale&gt;10000&lt;/MScale&gt;&lt;XYTolerance&gt;0.001&lt;/XYTolerance&gt;&lt;ZTolerance&gt;0.001&lt;/ZTolerance&gt;&lt;MTolerance&gt;0.001&lt;/MTolerance&gt;&lt;HighPrecision&gt;true&lt;/HighPrecision&gt;&lt;WKID&gt;2056&lt;/WKID&gt;&lt;LatestWKID&gt;2056&lt;/LatestWKID&gt;&lt;/ProjectedCoordinateSystem&gt;</peXml>
      </coordRef>
      <RasterProperties>
        <General>
          <PixelDepth Sync="TRUE">32</PixelDepth>
          <HasColormap Sync="TRUE">FALSE</HasColormap>
          <CompressionType Sync="TRUE">LZW</CompressionType>
          <NumBands Sync="TRUE">1</NumBands>
          <Format Sync="TRUE">TIFF</Format>
          <HasPyramids Sync="TRUE">TRUE</HasPyramids>
          <SourceType Sync="TRUE">continuous</SourceType>
          <PixelType Sync="TRUE">floating point</PixelType>
          <NoDataValue Sync="TRUE">3.4e+38</NoDataValue>
        </General>
      </RasterProperties>
      <lineage>
        <Process Date="20201215" Time="154633" ToolSource="c:\program files\arcgis\pro\Resources\ArcToolbox\toolboxes\Data Management Tools.tbx\MosaicToNewRaster">MosaicToNewRaster C:\ArcGIS\Projects\BFS_Testdaten\Data_FBr\DGM_Grid\dgm_2588_1196.asc;C:\ArcGIS\Projects\BFS_Testdaten\Data_FBr\DGM_Grid\dgm_2588_1197.asc;C:\ArcGIS\Projects\BFS_Testdaten\Data_FBr\DGM_Grid\dgm_2589_1196.asc;C:\ArcGIS\Projects\BFS_Testdaten\Data_FBr\DGM_Grid\dgm_2589_1197.asc;C:\ArcGIS\Projects\BFS_Testdaten\Data_FBr\DGM_Grid\dgm_2589_1198.asc;C:\ArcGIS\Projects\BFS_Testdaten\Data_FBr\DGM_Grid\dgm_2589_1199.asc;C:\ArcGIS\Projects\BFS_Testdaten\Data_FBr\DGM_Grid\dgm_2590_1196.asc;C:\ArcGIS\Projects\BFS_Testdaten\Data_FBr\DGM_Grid\dgm_2590_1197.asc;C:\ArcGIS\Projects\BFS_Testdaten\Data_FBr\DGM_Grid\dgm_2590_1198.asc;C:\ArcGIS\Projects\BFS_Testdaten\Data_FBr\DGM_Grid\dgm_2590_1199.asc;C:\ArcGIS\Projects\BFS_Testdaten\Data_FBr\DGM_Grid\dgm_2591_1196.asc;C:\ArcGIS\Projects\BFS_Testdaten\Data_FBr\DGM_Grid\dgm_2591_1197.asc;C:\ArcGIS\Projects\BFS_Testdaten\Data_FBr\DGM_Grid\dgm_2591_1198.asc;C:\ArcGIS\Projects\BFS_Testdaten\Data_FBr\DGM_Grid\dgm_2591_1199.asc;C:\ArcGIS\Projects\BFS_Testdaten\Data_FBr\DGM_Grid\dgm_2592_1196.asc;C:\ArcGIS\Projects\BFS_Testdaten\Data_FBr\DGM_Grid\dgm_2592_1197.asc;C:\ArcGIS\Projects\BFS_Testdaten\Data_FBr\DGM_Grid\dgm_2592_1198.asc;C:\ArcGIS\Projects\BFS_Testdaten\Data_FBr\DGM_Grid\dgm_2592_1199.asc;C:\ArcGIS\Projects\BFS_Testdaten\Data_FBr\DGM_Grid\dgm_2593_1197.asc;C:\ArcGIS\Projects\BFS_Testdaten\Data_FBr\DGM_Grid\dgm_2593_1198.asc;C:\ArcGIS\Projects\BFS_Testdaten\Data_FBr\DGM_Grid\dgm_2593_1199.asc;C:\ArcGIS\Projects\BFS_Testdaten\Data_FBr\DGM_Grid\dgm_2593_1200.asc;C:\ArcGIS\Projects\BFS_Testdaten\Data_FBr\DGM_Grid\dgm_2594_1197.asc;C:\ArcGIS\Projects\BFS_Testdaten\Data_FBr\DGM_Grid\dgm_2594_1198.asc;C:\ArcGIS\Projects\BFS_Testdaten\Data_FBr\DGM_Grid\dgm_2594_1199.asc;C:\ArcGIS\Projects\BFS_Testdaten\Data_FBr\DGM_Grid\dgm_2594_1200.asc;C:\ArcGIS\Projects\BFS_Testdaten\Data_FBr\DGM_Grid\dgm_2594_1201.asc;C:\ArcGIS\Projects\BFS_Testdaten\Data_FBr\DGM_Grid\dgm_2595_1197.asc;C:\ArcGIS\Projects\BFS_Testdaten\Data_FBr\DGM_Grid\dgm_2595_1198.asc;C:\ArcGIS\Projects\BFS_Testdaten\Data_FBr\DGM_Grid\dgm_2595_1199.asc;C:\ArcGIS\Projects\BFS_Testdaten\Data_FBr\DGM_Grid\dgm_2595_1200.asc;C:\ArcGIS\Projects\BFS_Testdaten\Data_FBr\DGM_Grid\dgm_2595_1201.asc;C:\ArcGIS\Projects\BFS_Testdaten\Data_FBr\DGM_Grid\dgm_2596_1196.asc;C:\ArcGIS\Projects\BFS_Testdaten\Data_FBr\DGM_Grid\dgm_2596_1197.asc;C:\ArcGIS\Projects\BFS_Testdaten\Data_FBr\DGM_Grid\dgm_2596_1198.asc;C:\ArcGIS\Projects\BFS_Testdaten\Data_FBr\DGM_Grid\dgm_2596_1199.asc;C:\ArcGIS\Projects\BFS_Testdaten\Data_FBr\DGM_Grid\dgm_2596_1200.asc;C:\ArcGIS\Projects\BFS_Testdaten\Data_FBr\DGM_Grid\dgm_2596_1201.asc;C:\ArcGIS\Projects\BFS_Testdaten\Data_FBr\DGM_Grid\dgm_2596_1202.asc;C:\ArcGIS\Projects\BFS_Testdaten\Data_FBr\DGM_Grid\dgm_2597_1196.asc;C:\ArcGIS\Projects\BFS_Testdaten\Data_FBr\DGM_Grid\dgm_2597_1197.asc;C:\ArcGIS\Projects\BFS_Testdaten\Data_FBr\DGM_Grid\dgm_2597_1198.asc;C:\ArcGIS\Projects\BFS_Testdaten\Data_FBr\DGM_Grid\dgm_2597_1199.asc;C:\ArcGIS\Projects\BFS_Testdaten\Data_FBr\DGM_Grid\dgm_2597_1200.asc;C:\ArcGIS\Projects\BFS_Testdaten\Data_FBr\DGM_Grid\dgm_2597_1201.asc;C:\ArcGIS\Projects\BFS_Testdaten\Data_FBr\DGM_Grid\dgm_2597_1202.asc;C:\ArcGIS\Projects\BFS_Testdaten\Data_FBr\DGM_Grid\dgm_2598_1197.asc;C:\ArcGIS\Projects\BFS_Testdaten\Data_FBr\DGM_Grid\dgm_2598_1198.asc;C:\ArcGIS\Projects\BFS_Testdaten\Data_FBr\DGM_Grid\dgm_2598_1199.asc;C:\ArcGIS\Projects\BFS_Testdaten\Data_FBr\DGM_Grid\dgm_2598_1200.asc;C:\ArcGIS\Projects\BFS_Testdaten\Data_FBr\DGM_Grid\dgm_2598_1201.asc;C:\ArcGIS\Projects\BFS_Testdaten\Data_FBr\DGM_Grid\dgm_2598_1202.asc;C:\ArcGIS\Projects\BFS_Testdaten\Data_FBr\DGM_Grid\dgm_2599_1197.asc;C:\ArcGIS\Projects\BFS_Testdaten\Data_FBr\DGM_Grid\dgm_2599_1198.asc;C:\ArcGIS\Projects\BFS_Testdaten\Data_FBr\DGM_Grid\dgm_2599_1199.asc;C:\ArcGIS\Projects\BFS_Testdaten\Data_FBr\DGM_Grid\dgm_2599_1200.asc;C:\ArcGIS\Projects\BFS_Testdaten\Data_FBr\DGM_Grid\dgm_2599_1201.asc;C:\ArcGIS\Projects\BFS_Testdaten\Data_FBr\DGM_Grid\dgm_2599_1202.asc;C:\ArcGIS\Projects\BFS_Testdaten\Data_FBr\DGM_Grid\dgm_2600_1197.asc;C:\ArcGIS\Projects\BFS_Testdaten\Data_FBr\DGM_Grid\dgm_2600_1198.asc;C:\ArcGIS\Projects\BFS_Testdaten\Data_FBr\DGM_Grid\dgm_2600_1199.asc;C:\ArcGIS\Projects\BFS_Testdaten\Data_FBr\DGM_Grid\dgm_2600_1200.asc;C:\ArcGIS\Projects\BFS_Testdaten\Data_FBr\DGM_Grid\dgm_2600_1201.asc;C:\ArcGIS\Projects\BFS_Testdaten\Data_FBr\DGM_Grid\dgm_2600_1202.asc;C:\ArcGIS\Projects\BFS_Testdaten\Data_FBr\DGM_Grid\dgm_2600_1203.asc;C:\ArcGIS\Projects\BFS_Testdaten\Data_FBr\DGM_Grid\dgm_2600_1204.asc;C:\ArcGIS\Projects\BFS_Testdaten\Data_FBr\DGM_Grid\dgm_2601_1197.asc;C:\ArcGIS\Projects\BFS_Testdaten\Data_FBr\DGM_Grid\dgm_2601_1198.asc;C:\ArcGIS\Projects\BFS_Testdaten\Data_FBr\DGM_Grid\dgm_2601_1199.asc;C:\ArcGIS\Projects\BFS_Testdaten\Data_FBr\DGM_Grid\dgm_2601_1200.asc;C:\ArcGIS\Projects\BFS_Testdaten\Data_FBr\DGM_Grid\dgm_2601_1201.asc;C:\ArcGIS\Projects\BFS_Testdaten\Data_FBr\DGM_Grid\dgm_2601_1202.asc;C:\ArcGIS\Projects\BFS_Testdaten\Data_FBr\DGM_Grid\dgm_2601_1203.asc;C:\ArcGIS\Projects\BFS_Testdaten\Data_FBr\DGM_Grid\dgm_2601_1204.asc;C:\ArcGIS\Projects\BFS_Testdaten\Data_FBr\DGM_Grid\dgm_2602_1197.asc;C:\ArcGIS\Projects\BFS_Testdaten\Data_FBr\DGM_Grid\dgm_2602_1198.asc;C:\ArcGIS\Projects\BFS_Testdaten\Data_FBr\DGM_Grid\dgm_2602_1199.asc;C:\ArcGIS\Projects\BFS_Testdaten\Data_FBr\DGM_Grid\dgm_2602_1200.asc;C:\ArcGIS\Projects\BFS_Testdaten\Data_FBr\DGM_Grid\dgm_2602_1201.asc;C:\ArcGIS\Projects\BFS_Testdaten\Data_FBr\DGM_Grid\dgm_2602_1202.asc;C:\ArcGIS\Projects\BFS_Testdaten\Data_FBr\DGM_Grid\dgm_2603_1198.asc;C:\ArcGIS\Projects\BFS_Testdaten\Data_FBr\DGM_Grid\dgm_2603_1199.asc;C:\ArcGIS\Projects\BFS_Testdaten\Data_FBr\DGM_Grid\dgm_2603_1200.asc;C:\ArcGIS\Projects\BFS_Testdaten\Data_FBr\DGM_Grid\dgm_2603_1201.asc;C:\ArcGIS\Projects\BFS_Testdaten\Data_FBr\DGM_Grid\dgm_2603_1202.asc;C:\ArcGIS\Projects\BFS_Testdaten\Data_FBr\DGM_Grid\dgm_2604_1198.asc;C:\ArcGIS\Projects\BFS_Testdaten\Data_FBr\DGM_Grid\dgm_2604_1199.asc C:\ArcGIS\Projects\BFS_Testdaten\Data_FBr\DTM_Reliefkarte DTM2020_Hoehe_25cm.tif PROJCS['CH1903+_LV95',GEOGCS['GCS_CH1903+',DATUM['D_CH1903+',SPHEROID['Bessel_1841',6377397.155,299.1528128]],PRIMEM['Greenwich',0.0],UNIT['Degree',0.0174532925199433]],PROJECTION['Hotine_Oblique_Mercator_Azimuth_Center'],PARAMETER['False_Easting',2600000.0],PARAMETER['False_Northing',1200000.0],PARAMETER['Scale_Factor',1.0],PARAMETER['Azimuth',90.0],PARAMETER['Longitude_Of_Center',7.439583333333333],PARAMETER['Latitude_Of_Center',46.95240555555556],UNIT['Meter',1.0]] 32-Bit-Gleitkommazahl 0.25 1 Letzter "Erste(r) von"</Process>
      </lineage>
    </DataProperties>
    <SyncDate>20201215</SyncDate>
    <SyncTime>15463300</SyncTime>
    <ModDate>20201215</ModDate>
    <ModTime>15463300</ModTime>
  </Esri>
  <dataIdInfo>
    <envirDesc Sync="TRUE">Microsoft Windows 10 Version 10.0 (Build 18363) ; Esri ArcGIS 12.5.0.22081</envirDesc>
    <dataLang>
      <languageCode Sync="TRUE" value="deu"/>
      <countryCode Sync="TRUE" value="CHE"/>
    </dataLang>
    <idCitation>
      <resTitle Sync="TRUE">StadtBern DTM Hoehe 25cm</resTitle>
      <presForm>
        <PresFormCd Sync="TRUE" value="005"/>
      </presForm>
    </idCitation>
    <spatRpType>
      <SpatRepTypCd Sync="TRUE" value="002"/>
    </spatRpType>
    <dataExt>
      <geoEle>
        <GeoBndBox esriExtentType="search">
          <exTypeCode Sync="TRUE">1</exTypeCode>
          <westBL Sync="TRUE">7.281794</westBL>
          <eastBL Sync="TRUE">7.505329</eastBL>
          <northBL Sync="TRUE">46.997387</northBL>
          <southBL Sync="TRUE">46.916312</southBL>
        </GeoBndBox>
      </geoEle>
    </dataExt>
    <idAbs/>
    <searchKeys>
      <keyword>stadtbern</keyword>
      <keyword>dtm</keyword>
      <keyword>3d</keyword>
    </searchKeys>
    <idPurp>Digitales Terrainmodell 25cm 2020</idPurp>
    <idCredit/>
    <resConst>
      <Consts>
        <useLimit/>
      </Consts>
    </resConst>
  </dataIdInfo>
  <mdLang>
    <languageCode Sync="TRUE" value="deu"/>
    <countryCode Sync="TRUE" value="CHE"/>
  </mdLang>
  <mdChar>
    <CharSetCd Sync="TRUE" value="004"/>
  </mdChar>
  <distInfo>
    <distFormat>
      <formatName Sync="TRUE">Raster-Dataset</formatName>
    </distFormat>
  </distInfo>
  <mdHrLv>
    <ScopeCd Sync="TRUE" value="005"/>
  </mdHrLv>
  <mdHrLvName Sync="TRUE">dataset</mdHrLvName>
  <refSysInfo>
    <RefSystem>
      <refSysID>
        <identCode Sync="TRUE" code="2056"/>
        <idCodeSpace Sync="TRUE">EPSG</idCodeSpace>
        <idVersion Sync="TRUE">8.8(8.1.0)</idVersion>
      </refSysID>
    </RefSystem>
  </refSysInfo>
  <spatRepInfo>
    <Georect>
      <cellGeo>
        <CellGeoCd Sync="TRUE" value="002"/>
      </cellGeo>
      <numDims Sync="TRUE">2</numDims>
      <tranParaAv Sync="TRUE">1</tranParaAv>
      <chkPtAv Sync="TRUE">0</chkPtAv>
      <cornerPts>
        <pos Sync="TRUE">2588000.000122 1196000.000122</pos>
      </cornerPts>
      <cornerPts>
        <pos Sync="TRUE">2588000.000122 1205000.000122</pos>
      </cornerPts>
      <cornerPts>
        <pos Sync="TRUE">2605000.000122 1205000.000122</pos>
      </cornerPts>
      <cornerPts>
        <pos Sync="TRUE">2605000.000122 1196000.000122</pos>
      </cornerPts>
      <centerPt>
        <pos Sync="TRUE">2596500.000122 1200500.000122</pos>
      </centerPt>
      <axisDimension type="002">
        <dimSize Sync="TRUE">68000</dimSize>
        <dimResol>
          <value Sync="TRUE" uom="m">0.250000</value>
        </dimResol>
      </axisDimension>
      <axisDimension type="001">
        <dimSize Sync="TRUE">36000</dimSize>
        <dimResol>
          <value Sync="TRUE" uom="m">0.250000</value>
        </dimResol>
      </axisDimension>
      <ptInPixel>
        <PixOrientCd Sync="TRUE" value="001"/>
      </ptInPixel>
    </Georect>
  </spatRepInfo>
  <contInfo>
    <ImgDesc>
      <contentTyp>
        <ContentTypCd Sync="TRUE" value="001"/>
      </contentTyp>
      <covDim>
        <Band>
          <dimDescrp Sync="TRUE">Band_1</dimDescrp>
          <maxVal Sync="TRUE">732.857971</maxVal>
          <minVal Sync="TRUE">478.959015</minVal>
          <bitsPerVal Sync="TRUE">32</bitsPerVal>
          <valUnit>
            <UOM type="length"/>
          </valUnit>
        </Band>
      </covDim>
    </ImgDesc>
  </contInfo>
  <mdDateSt Sync="TRUE">20201215</mdDateSt>
</metadata>
