{
 "currentVersion": 11.5,
 "serviceDescription": "StadtBern_DTM_Hoehe_25cm_2023",
 "serviceItemId": "7d7eb05815ca48989d7dd66419fe1046",
 "name": "StadtBern_DTM_Hoehe_25cm_2023",
 "description": "",
 "extent": {
  "xmin": 2588000,
  "ymin": 1196000,
  "xmax": 2605000,
  "ymax": 1205000,
  "spatialReference": {
   "wkid": 2056,
   "latestWkid": 2056,
   "vcsWkid": 5728,
   "latestVcsWkid": 5728
  }
 },
 "initialExtent": {
  "xmin": 2588000,
  "ymin": 1196000,
  "xmax": 2605000,
  "ymax": 1205000,
  "spatialReference": {
   "wkid": 2056,
   "latestWkid": 2056,
   "vcsWkid": 5728,
   "latestVcsWkid": 5728
  }
 },
 "fullExtent": {
  "xmin": 2588000,
  "ymin": 1196000,
  "xmax": 2605000,
  "ymax": 1205000,
  "spatialReference": {
   "wkid": 2056,
   "latestWkid": 2056,
   "vcsWkid": 5728,
   "latestVcsWkid": 5728
  }
 },
 "sortableFields": "",
 "heightModelInfo": {
  "heightModel": "gravity_related_height",
  "vertCRS": "LN_1902",
  "heightUnit": "meter"
 },
 "bandCount": 1,
 "pixelType": "F64",
 "minValues": [
  480.67
 ],
 "maxValues": [
  732.8
 ],
 "meanValues": [
  566.9247497418
 ],
 "stdvValues": [
  41.286029302315
 ],
 "serviceProperties": "Center<\/MosaicMethod>First<\/MosaicOperator>true<\/SortAscending><\/LockImageID><\/TileOrderField>0<\/TileOrderBase>0.000000<\/AvgImageSpacingX>0.000000<\/AvgImageSpacingY>0.0<\/ViewPointX>0.0<\/ViewPointY>0.0<\/ViewPointDefShiftX>0.0<\/ViewPointDefShiftY>None<\/CompressionMethod>75<\/CompressionQuality>0.100000<\/CompressionTolerance>Bilinear<\/SamplingMethod><\/ImageServiceProperties><\/ImageServer>",
 "allowedFields": "",
 "hasMultidimensions": false,
 "pixelSizeX": 0.25,
 "pixelSizeY": 0.25,
 "meanPixelSize": 0.25,
 "datasetFormat": "TIFF",
 "uncompressedSize": 19584000000,
 "blockWidth": 68000,
 "blockHeight": 16,
 "compressionType": "DEFLATE",
 "bandNames": [
  "Band_1"
 ],
 "allowCopy": true,
 "allowAnalysis": true,
 "itemAccess": false,
 "inspectionCapabilities": "",
 "noDataValue": 0,
 "noDataValues": [
  0
 ],
 "minPixelSize": 0.026458386250105836,
 "maxPixelSize": 27.093387520108376,
 "copyrightText": "",
 "serviceDataType": "esriImageServiceDataTypeGeneric",
 "serviceSourceType": "esriImageServiceSourceTypeDataset",
 "objectIdField": "",
 "fields": [],
 "capabilities": "Image,Metadata,Mensuration",
 "defaultMosaicMethod": "Center",
 "allowedMosaicMethods": "",
 "sortField": "",
 "sortValue": null,
 "sortAscending": true,
 "mosaicOperator": "First",
 "defaultCompressionQuality": 75,
 "defaultResamplingMethod": "Bilinear",
 "maxImageHeight": 4100,
 "maxImageWidth": 15000,
 "singleFusedMapCache": true,
 "tileInfo": {
  "rows": 256,
  "cols": 256,
  "dpi": 96,
  "format": "LERC",
  "compressionQuality": 0,
  "lercError": 0.05,
  "origin": {
   "x": 2480000,
   "y": 1302000
  },
  "spatialReference": {
   "wkid": 2056,
   "latestWkid": 2056
  },
  "lods": [
   {
    "level": 0,
    "resolution": 27.093387520108376,
    "scale": 102400
   },
   {
    "level": 1,
    "resolution": 13.546693760054188,
    "scale": 51200
   },
   {
    "level": 2,
    "resolution": 6.773346880027094,
    "scale": 25600
   },
   {
    "level": 3,
    "resolution": 3.386673440013547,
    "scale": 12800
   },
   {
    "level": 4,
    "resolution": 1.6933367200067735,
    "scale": 6400
   },
   {
    "level": 5,
    "resolution": 0.8466683600033867,
    "scale": 3200
   },
   {
    "level": 6,
    "resolution": 0.42333418000169337,
    "scale": 1600
   },
   {
    "level": 7,
    "resolution": 0.21166709000084669,
    "scale": 800
   },
   {
    "level": 8,
    "resolution": 0.10583354500042334,
    "scale": 400
   },
   {
    "level": 9,
    "resolution": 0.05291677250021167,
    "scale": 200
   },
   {
    "level": 10,
    "resolution": 0.026458386250105836,
    "scale": 100
   }
  ]
 },
 "storageInfo": {
  "storageFormat": "esriMapCacheStorageModeCompactV2",
  "packetSize": 128
 },
 "cacheType": "Elevation",
 "allowRasterFunction": true,
 "rasterFunctionInfos": [
  {
   "name": "None",
   "description": "",
   "help": ""
  }
 ],
 "rasterTypeInfos": [
  {
   "name": "Raster Dataset",
   "description": "Supports all ArcGIS Raster Datasets",
   "help": ""
  }
 ],
 "mensurationCapabilities": "Basic",
 "hasHistograms": true,
 "hasColormap": false,
 "hasRasterAttributeTable": false,
 "minScale": 102400,
 "maxScale": 100,
 "minLOD": 0,
 "maxLOD": 10,
 "exportTilesAllowed": false,
 "supportsStatistics": false,
 "supportsAdvancedQueries": false,
 "editFieldsInfo": null,
 "ownershipBasedAccessControlForRasters": null,
 "allowComputeTiePoints": false,
 "useStandardizedQueries": true,
 "advancedQueryCapabilities": {
  "useStandardizedQueries": true,
  "supportsStatistics": false,
  "supportsOrderBy": false,
  "supportsDistinct": false,
  "supportsPagination": false
 },
 "spatialReference": {
  "wkid": 2056,
  "latestWkid": 2056,
  "vcsWkid": 5728,
  "latestVcsWkid": 5728
 }
}
