View In:
ArcGIS JavaScript
ArcGIS Online Map Viewer
ArcGIS Earth
Service Description: StadtBern_DTM_Hoehe_25cm_2023
Name: StadtBern_DTM_Hoehe_25cm_2023
Description:
Single Fused Map Cache: true
Tile Info:
- Height: 256
- Width: 256
- DPI: 96
-
Levels of Detail: 11
- Format: LERC
- Compression Quality: 0.0
- LERC Error: 0.05
- Origin: X: 2480000.0
Y: 1302000.0
- Spatial Reference: 2056
(2056)
LatestVCSWkid(0)
Storage Info:
- Storage Format: esriMapCacheStorageModeCompactV2
- Packet Size: 128
Extent:
XMin: 2588000.0
YMin: 1196000.0
XMax: 2605000.0
YMax: 1205000.0
Spatial Reference: 2056
(2056)
VCSWkid(5728)
LatestVCSWkid(5728)
Initial Extent:
XMin: 2588000.0
YMin: 1196000.0
XMax: 2605000.0
YMax: 1205000.0
Spatial Reference: 2056
(2056)
VCSWkid(5728)
LatestVCSWkid(5728)
Full Extent:
XMin: 2588000.0
YMin: 1196000.0
XMax: 2605000.0
YMax: 1205000.0
Spatial Reference: 2056
(2056)
VCSWkid(5728)
LatestVCSWkid(5728)
Pixel Size X: 0.25
Pixel Size Y: 0.25
Band Count: 1
Pixel Type: F64
RasterFunction Infos: {"rasterFunctionInfos": [{
"name": "None",
"description": "",
"help": ""
}]}
Mensuration Capabilities: Basic
Inspection Capabilities:
Has Histograms: true
Has Colormap: false
Has Multi Dimensions : false
Rendering Rule:
Min Scale: 102400
Max Scale: 100
Min LOD: 0
Max LOD: 10
Copyright Text:
Service Data Type: esriImageServiceDataTypeGeneric
Min Values: 480.67
Max Values: 732.8
Mean Values: 566.9247497418
Standard Deviation Values: 41.286029302315
Object ID Field:
Fields:
None
Default Mosaic Method: Center
Allowed Mosaic Methods:
SortField:
SortValue: null
Mosaic Operator: First
Default Compression Quality: 75
Default Resampling Method: Bilinear
Max Record Count: null
Max Image Height: 4100
Max Image Width: 15000
Max Download Image Count: null
Max Mosaic Image Count: null
Allow Raster Function: true
Allow Copy: true
Allow Analysis: true
Allow Compute TiePoints: false
Supports Statistics: false
Supports Advanced Queries: false
Use StandardizedQueries: true
Raster Type Infos:
Name: Raster Dataset
Description: Supports all ArcGIS Raster Datasets
Help:
Has Raster Attribute Table: false
Edit Fields Info: null
Ownership Based AccessControl For Rasters: null
Child Resources:
Info
Histograms
Statistics
Key Properties
Legend
Raster Function Infos
Supported Operations:
Export Image
Identify
Measure
Compute Histograms
Compute Statistics Histograms
Get Samples
Compute Class Statistics
Query Boundary
Compute Pixel Location
Compute Angles
Validate
Project